BEGIN:VCALENDAR
VERSION:2.0
PRODID:-//wp-events-plugin.com//6.6.3//EN
TZID:Europe/London
X-WR-TIMEZONE:Europe/London
BEGIN:VEVENT
UID:9@strobertofknaresborough.org.uk
DTSTART;TZID=Europe/London:20180922T130000
DTEND;TZID=Europe/London:20180922T160000
DTSTAMP:20180122T111653Z
URL:https://strobertofknaresborough.org.uk/events/st-robert-feast/
SUMMARY:Feast of Worthies
DESCRIPTION:This event will take place in Abbey Road.\n\nFor further inform
 ation please contact peter.lacey8@btopenworld.com or Sue.Whalley@gmail.com
CATEGORIES:Event
END:VEVENT
BEGIN:VTIMEZONE
TZID:Europe/London
X-LIC-LOCATION:Europe/London
BEGIN:DAYLIGHT
DTSTART:20180325T020000
TZOFFSETFROM:+0000
TZOFFSETTO:+0100
TZNAME:BST
END:DAYLIGHT
END:VTIMEZONE
END:VCALENDAR